BEGIN:VCALENDAR
VERSION:2.0
PRODID:-// - ECPv6.15.20//NONSGML v1.0//EN
CALSCALE:GREGORIAN
METHOD:PUBLISH
X-ORIGINAL-URL:https://beccle.no
X-WR-CALDESC:Events for 
REFRESH-INTERVAL;VALUE=DURATION:PT1H
X-Robots-Tag:noindex
X-PUBLISHED-TTL:PT1H
BEGIN:VTIMEZONE
TZID:Europe/Oslo
BEGIN:DAYLIGHT
TZOFFSETFROM:+0100
TZOFFSETTO:+0200
TZNAME:CEST
DTSTART:20210328T010000
END:DAYLIGHT
BEGIN:STANDARD
TZOFFSETFROM:+0200
TZOFFSETTO:+0100
TZNAME:CET
DTSTART:20211031T010000
END:STANDARD
BEGIN:DAYLIGHT
TZOFFSETFROM:+0100
TZOFFSETTO:+0200
TZNAME:CEST
DTSTART:20220327T010000
END:DAYLIGHT
BEGIN:STANDARD
TZOFFSETFROM:+0200
TZOFFSETTO:+0100
TZNAME:CET
DTSTART:20221030T010000
END:STANDARD
BEGIN:DAYLIGHT
TZOFFSETFROM:+0100
TZOFFSETTO:+0200
TZNAME:CEST
DTSTART:20230326T010000
END:DAYLIGHT
BEGIN:STANDARD
TZOFFSETFROM:+0200
TZOFFSETTO:+0100
TZNAME:CET
DTSTART:20231029T010000
END:STANDARD
END:VTIMEZONE
BEGIN:VEVENT
DTSTART;TZID=Europe/Oslo:20220506T103000
DTEND;TZID=Europe/Oslo:20220506T130000
DTSTAMP:20260421T001012
CREATED:20220419T115821Z
LAST-MODIFIED:20220422T123314Z
UID:6682-1651833000-1651842000@beccle.no
SUMMARY:Seminar om prisregulering på dagligvarer
DESCRIPTION:  \nBør innkjøpspriser på dagligvarer reguleres?\nDet har i flere år pågått en debatt angående forskjeller i innkjøpspriser på dagligvarer og hvordan det evt. påvirker konkurransen i dagligvaremarkedet. Denne debatten er nå igjen aktuell\, etter at SV nylig har sendt et representantforslag til Stortinget om å regulere innkjøpspriser på dagligvare. Vi har bedt tre akademikere og tre personer fra bransjen kommentere forslaget fra SV: \nProfessor Espen Moen\, BI\, \nProfessor Øystein Foros\, NHH\, \nFørsteamanuensis Ronny Gjendemsjø\, Universitetet i Bergen\, \nKarl Alveng Munthe-Kaas\, Oda \nStein Rømmerud\, Norgesgruppen \nHelge Hasselgård\, Dagligvareleverandørenes Forening \n  \n  \n  \nSeminaret avsluttes med en paneldebatt ledet av Tor Arne Fanghol fra universitetsavisen Khrono. \nSeminaret kan følges både fysisk og digitalt.
URL:https://beccle.no/event/seminar-om-prisregulering-pa-dagligvarer/
LOCATION:Auditorium 4\, Det juridiske fakultet\, UiB\, Magnus Lagabøtes plass 1\, Bergen\, Hordaland\, 5010\, Norway
CATEGORIES:Events,Seminar
END:VEVENT
BEGIN:VEVENT
DTSTART;TZID=Europe/Oslo:20220524T121500
DTEND;TZID=Europe/Oslo:20220524T133000
DTSTAMP:20260421T001012
CREATED:20220317T121022Z
LAST-MODIFIED:20220317T135021Z
UID:6576-1653394500-1653399000@beccle.no
SUMMARY:Seminar on EU merger control
DESCRIPTION:Tomaso Duso will present his empirical study of EU merger control\, done jointly with Paula Affeldt\, Klaus Gugler and Joanna Piechucka. They analyze more than 1000 mergers scrutinized by the European Commission between 1980 and 2019.  One finding from their study is that they are concerned about the Commission’s merger enforcement being too lax. \nTime: May 24 2022\, 12.15-13.30 \nVenue: Room E209/210\, Norwegian School of Economics \nThis is a joint seminar with Center for Business Economics (CBE) at NHH \n  \nDownload paper here. \n  \nAbstract: Worldwide\, the overwhelming majority of large horizontal mergers are cleared by antitrust authorities unconditionally. The presumption seems to be that efficiencies from these mergers are sizeable. We calculate the compensating efficiencies that would prevent a merger from harming consumers for 1\,014 mergers affecting 12\,325 antitrust markets scrutinized by the European Commission between 1990 and 2018. Compensating efficiencies seem too large to be achievable for many mergers. Barriers to entry and the number of firms active in the market are the most important factors determining their size. We highlight concerns about the Commission’s merger enforcement being too lax.
URL:https://beccle.no/event/beccle-seminar-on-eu-merger-control/
LOCATION:Norwegian School of Economics\, Department of Economics\, Room E209/E210\, Helleveien 30\, Bergen\, Norway
CATEGORIES:Events,Seminar
END:VEVENT
END:VCALENDAR