BEGIN:VCALENDAR
VERSION:2.0
PRODID:-// - ECPv6.15.20//NONSGML v1.0//EN
CALSCALE:GREGORIAN
METHOD:PUBLISH
X-ORIGINAL-URL:https://beccle.no
X-WR-CALDESC:Events for 
REFRESH-INTERVAL;VALUE=DURATION:PT1H
X-Robots-Tag:noindex
X-PUBLISHED-TTL:PT1H
BEGIN:VTIMEZONE
TZID:Europe/Oslo
BEGIN:DAYLIGHT
TZOFFSETFROM:+0100
TZOFFSETTO:+0200
TZNAME:CEST
DTSTART:20220327T010000
END:DAYLIGHT
BEGIN:STANDARD
TZOFFSETFROM:+0200
TZOFFSETTO:+0100
TZNAME:CET
DTSTART:20221030T010000
END:STANDARD
BEGIN:DAYLIGHT
TZOFFSETFROM:+0100
TZOFFSETTO:+0200
TZNAME:CEST
DTSTART:20230326T010000
END:DAYLIGHT
BEGIN:STANDARD
TZOFFSETFROM:+0200
TZOFFSETTO:+0100
TZNAME:CET
DTSTART:20231029T010000
END:STANDARD
BEGIN:DAYLIGHT
TZOFFSETFROM:+0100
TZOFFSETTO:+0200
TZNAME:CEST
DTSTART:20240331T010000
END:DAYLIGHT
BEGIN:STANDARD
TZOFFSETFROM:+0200
TZOFFSETTO:+0100
TZNAME:CET
DTSTART:20241027T010000
END:STANDARD
END:VTIMEZONE
BEGIN:VEVENT
DTSTART;TZID=Europe/Oslo:20230921T143000
DTEND;TZID=Europe/Oslo:20230921T160000
DTSTAMP:20260419T161650
CREATED:20230823T075757Z
LAST-MODIFIED:20231028T170525Z
UID:7169-1695306600-1695312000@beccle.no
SUMMARY:Norwegians oppkjøp av Widerøe
DESCRIPTION:Norwegian har inngått avtale om å kjøpe Widerøe for litt over en milliard kroner. Oppkjøpet er meldt til Konkurransetilsynet og krever deres godkjennelse. Det er en konkret vurdering som vil avgjøre om Norwegian får ja til oppkjøpet. På dette seminaret vil vi foreta en prinsipiell diskusjon av de rettslige og økonomiske rammene for et eventuelt inngrep. Vi vil blant annet drøfte tidligere praksis i lignende saker\, hvilken inngrepsterskel som skal legges til grunn i lys av rettspraksis (nå nylig CK Telecom dommen)\, og eventuelt hvilke avhjelpende tiltak som kan være aktuelle. \nFor å belyse saken både fra et rettslig og et økonomisk perspektiv\, vil disse innlede på seminaret: \n\nProfessor Erling J. Hjelmeng\, Universitetet i Oslo (og Norges Handelshøyskole)\nProfessor Lars Sørgard\, Norges Handelshøyskole\n\nDet vil bli åpning for spørsmål og kommentarer fra salen. \nOPPTAK AV SEMINARET \nSeminaret vil foregå: \n\nTid: Torsdag 21. september kl 14.30-16.00\nSted: Auditorium 4\, Juridisk Fakultet\, Universitet i Bergen\n\nSeminaret vil være fysisk\, men vil også bli strømmet. Link for digital deltagelse \nSørgards presentasjon \nHjelmengs presentasjon \n 
URL:https://beccle.no/event/norwegians-oppkjop-av-wideroe/
LOCATION:Hordaland
CATEGORIES:Events,Seminar
END:VEVENT
BEGIN:VEVENT
DTSTART;TZID=Europe/Oslo:20230929T110000
DTEND;TZID=Europe/Oslo:20230929T130000
DTSTAMP:20260419T161650
CREATED:20230912T074617Z
LAST-MODIFIED:20231028T170434Z
UID:7198-1695985200-1695992400@beccle.no
SUMMARY:The Digital Markets Act - what now?
DESCRIPTION:  \nFriday September 29th there will be a BECCLE seminar with Thomas Kramler\, head of the unit Digital Platforms III in the Competition Directorate General of the European Commission. Thomas will talk about the genesis of the DMA and its main features\, with emphasis on the interplay with competition law. His unit is responsible for the enforcement of the Digital Markets Act and Articles 101 and 102 TFEU in relation to digital platforms. At the seminar Thomas will take us through the decisions directed at the platform services having been designated gatekeepers\, and the upcoming compliance regime. \n  \n  \nThomas Kramler \nHead of the unit Digital Platforms III in the Competition Directorate General of the European Commission. The unit is responsible for the enforcement of the Digital Markets Act and Articles 101 and 102 TFEU in relation to digital platforms. Before that\, he was Head of the Digital Single Market Task Force responsible for the ecommerce sector inquiry. He holds a law degree and a PhD from the University of Vienna\, Austria\, and has graduated with a Master’s degree in European Community Law from the College of Europe (Bruges). \nPreviously Mr Kramler was deputy head of the unit responsible for antitrust cases in the information industries\, internet and consumer electronics sectors. Before joining the European Commission Mr Kramler worked as agent representing the Austrian government before the European Courts in Luxembourg. \nLink for digital participation \nMr. Kramlers presentation
URL:https://beccle.no/event/the-digital-markets-act-what-now/
LOCATION:Auditorium 4\, Det juridiske fakultet\, UiB\, Magnus Lagabøtes plass 1\, Bergen\, Hordaland\, 5010\, Norway
CATEGORIES:Events,Seminar
END:VEVENT
END:VCALENDAR