BEGIN:VCALENDAR
VERSION:2.0
PRODID:-// - ECPv6.15.20//NONSGML v1.0//EN
CALSCALE:GREGORIAN
METHOD:PUBLISH
X-ORIGINAL-URL:https://beccle.no
X-WR-CALDESC:Events for 
REFRESH-INTERVAL;VALUE=DURATION:PT1H
X-Robots-Tag:noindex
X-PUBLISHED-TTL:PT1H
BEGIN:VTIMEZONE
TZID:Europe/Oslo
BEGIN:DAYLIGHT
TZOFFSETFROM:+0100
TZOFFSETTO:+0200
TZNAME:CEST
DTSTART:20220327T010000
END:DAYLIGHT
BEGIN:STANDARD
TZOFFSETFROM:+0200
TZOFFSETTO:+0100
TZNAME:CET
DTSTART:20221030T010000
END:STANDARD
BEGIN:DAYLIGHT
TZOFFSETFROM:+0100
TZOFFSETTO:+0200
TZNAME:CEST
DTSTART:20230326T010000
END:DAYLIGHT
BEGIN:STANDARD
TZOFFSETFROM:+0200
TZOFFSETTO:+0100
TZNAME:CET
DTSTART:20231029T010000
END:STANDARD
BEGIN:DAYLIGHT
TZOFFSETFROM:+0100
TZOFFSETTO:+0200
TZNAME:CEST
DTSTART:20240331T010000
END:DAYLIGHT
BEGIN:STANDARD
TZOFFSETFROM:+0200
TZOFFSETTO:+0100
TZNAME:CET
DTSTART:20241027T010000
END:STANDARD
END:VTIMEZONE
BEGIN:VEVENT
DTSTART;TZID=Europe/Oslo:20231026T093000
DTEND;TZID=Europe/Oslo:20231026T123000
DTSTAMP:20260419T142824
CREATED:20230908T093426Z
LAST-MODIFIED:20231028T171251Z
UID:7192-1698312600-1698323400@beccle.no
SUMMARY:Mot ein sterkare offentlegrettsleg administrativ handheving av konkurransereglane
DESCRIPTION:Innanfor konkurranseretten har det dei siste åra skjedd ei tildeling og forskyving av makt til administrative konkurransestyresmakter både overnasjonalt og nasjonalt i Europa. Gjennom ECN+ direktivet har den offentlege desentraliserte handhevinga i det administrative sporet blitt styrka\, og gjennom regelverk slik som DMA har Kommisjonen utvida si sentraliserte handhevingsmyndigheit av digitale teneste. I Noreg er ingen av desse regelverka implementerte endå\, men vi ser dei same tendensane gjennom debattane som går i desse dagar om blant anna handhevingsverktøy som marknadsetterforsking og personstraff. \nMedan marknadsetterforskingsverktøyet gir Konkurransetilsynet vid myndigheit til å gripe inn i marknader utan at konkurranseforboda er brotne og sånn sett søkjer å rettleie marknader før konkurransesituasjonen forverrast\, utgjer personstraff ein meir klassisk sanksjon som kjem inn etter at eit av forboda er brotne både for å straffe dei som har gjort urett og avskrekke andre frå å gjere same økonomiske kriminalitet. Gjennomgåande for desse regelverka er at forvaltninga inntek rollar som tradisjonelt ligg til påtalestyresmakter og domstolsapparatet. Dette reiser ei rekkje prinsipielle spørsmål om maktbalanse\, kontrollmekanismar og retten til rettferdig rettargang\, og kan få konsekvensar både for rettsutvikling\, rettsavklaring og rettsvisse. \nInnleggshaldarar er \n\nProfessor Jon Petter Rui\, juridisk fakultet UiB\n\n \n\nTina Søreide\, Konkurransedirektør\n\n \n\nElin Moen\, partner i BAHR\n\n \n\nVibeke Andersen\, avdelingsdirektør i Konkurranseseksjonen\, i Avdeling for konkurransepolitikk og næringsøkonomi i Nærings- og fiskeridepartementet\n\n \nLink for digital deltagelse \nPROGRAM: \n09:30-09:40: Velkomst og introduksjon – meir makt til forvaltninga\, fordelar og ulemper? Velkomspresentasjonen \n09:35-10:15: Jon Petter Rui presenterer funna i rapport om individuelle sanksjonar for brot på konkurranselova. Kva inneber det å flytte sanksjonar frå strafferettssporet til det administrative sporet? RAPPORTEN \n10:15-10:45: Tina Søreide: Er det eit behov for personstraff og kvifor? Korleis kan handhevingsverktøy som marknadsetterforsking gjere konkurransen meir effektiv? Søreides presentasjon \n10:45-11:00: Pause \n11:00-11:30: Elin Moen: Korleis responderer aktørane i marknaden\, og kva skjer når aktørars fokus skiftar frå forbod til compliance? Moens presentasjon \n11:30-12:00: Vibeke Andersen: Er det behov for nye verkemiddel i konkurransepolitikken? Andersens presentasjon \n12-12:30: Debatt og spørsmål frå salen. Enkel lunsjservering \n  \nVelkommen!
URL:https://beccle.no/event/mot-ein-sterkare-offentlegrettsleg-administrativ-handheving-av-konkurransereglane/
LOCATION:Auditorium 3\, Det juridiske fakultet\, UiB\, Magnus Lagabøtes plass 1\, Bergen\, Norway
CATEGORIES:Events,Seminar
END:VEVENT
END:VCALENDAR