BEGIN:VCALENDAR
VERSION:2.0
PRODID:-// - ECPv6.15.20//NONSGML v1.0//EN
CALSCALE:GREGORIAN
METHOD:PUBLISH
X-ORIGINAL-URL:https://beccle.no
X-WR-CALDESC:Events for 
REFRESH-INTERVAL;VALUE=DURATION:PT1H
X-Robots-Tag:noindex
X-PUBLISHED-TTL:PT1H
BEGIN:VTIMEZONE
TZID:Europe/Oslo
BEGIN:DAYLIGHT
TZOFFSETFROM:+0100
TZOFFSETTO:+0200
TZNAME:CEST
DTSTART:20130331T010000
END:DAYLIGHT
BEGIN:STANDARD
TZOFFSETFROM:+0200
TZOFFSETTO:+0100
TZNAME:CET
DTSTART:20131027T010000
END:STANDARD
BEGIN:DAYLIGHT
TZOFFSETFROM:+0100
TZOFFSETTO:+0200
TZNAME:CEST
DTSTART:20140330T010000
END:DAYLIGHT
BEGIN:STANDARD
TZOFFSETFROM:+0200
TZOFFSETTO:+0100
TZNAME:CET
DTSTART:20141026T010000
END:STANDARD
BEGIN:DAYLIGHT
TZOFFSETFROM:+0100
TZOFFSETTO:+0200
TZNAME:CEST
DTSTART:20150329T010000
END:DAYLIGHT
BEGIN:STANDARD
TZOFFSETFROM:+0200
TZOFFSETTO:+0100
TZNAME:CET
DTSTART:20151025T010000
END:STANDARD
END:VTIMEZONE
BEGIN:VEVENT
DTSTART;TZID=Europe/Oslo:20140908T091500
DTEND;TZID=Europe/Oslo:20140908T110000
DTSTAMP:20260423T083921
CREATED:20140903T081304Z
LAST-MODIFIED:20140903T083958Z
UID:3123-1410167700-1410174000@beccle.no
SUMMARY:Nytt klageorgan for konkurransesaker?
DESCRIPTION:Speaker: Siri Teigum\nPartner\, Advokatfirmaet Thommessen\, and leader of the committee assessing the need for an independent administrative review body in competition cases.  \n  \nThe seminar will not be streamed live\nLocation: Auditorium\, Ground floor\, Jekteviksbakken 31\nThe seminar is free and open to the public. Outside guests should use the entrance from Torborg Nedreaas’ gate or enter through the Faculty of Law’s main entrance.\nThe seminar will be held in Norwegian \n \n \nOn the topic:\nIn norwegian \nSiri Teigum\, leder for utvalget som skal vurdere løsninger for et uavhengig klageorgan i konkurransesaker\, kommer for å presentere utvalgets arbeid og ideer så langt. Det vil bli mulighet for å komme med innspill til utvalget etter innledningen fra utvalgets leder. Utvalgets mandat er å utarbeide konkrete løsninger for etableringen av et uavhengig klageorgan for konkurransesaker og vurdere de ulike spørsmål dette reiser.  \n  \n  \n  \n  \n  \n  \n  \n 
URL:https://beccle.no/event/nytt-klageorgan-for-konkurransesaker/
LOCATION:Auditoriet\, Jus II\, University of Bergen\, Jekteviksbakken 31\, Bergen\, Norway
CATEGORIES:Events
END:VEVENT
END:VCALENDAR