BEGIN:VCALENDAR
VERSION:2.0
PRODID:-// - ECPv6.15.20//NONSGML v1.0//EN
CALSCALE:GREGORIAN
METHOD:PUBLISH
X-ORIGINAL-URL:https://beccle.no
X-WR-CALDESC:Events for 
REFRESH-INTERVAL;VALUE=DURATION:PT1H
X-Robots-Tag:noindex
X-PUBLISHED-TTL:PT1H
BEGIN:VTIMEZONE
TZID:Europe/Oslo
BEGIN:DAYLIGHT
TZOFFSETFROM:+0100
TZOFFSETTO:+0200
TZNAME:CEST
DTSTART:20130331T010000
END:DAYLIGHT
BEGIN:STANDARD
TZOFFSETFROM:+0200
TZOFFSETTO:+0100
TZNAME:CET
DTSTART:20131027T010000
END:STANDARD
BEGIN:DAYLIGHT
TZOFFSETFROM:+0100
TZOFFSETTO:+0200
TZNAME:CEST
DTSTART:20140330T010000
END:DAYLIGHT
BEGIN:STANDARD
TZOFFSETFROM:+0200
TZOFFSETTO:+0100
TZNAME:CET
DTSTART:20141026T010000
END:STANDARD
BEGIN:DAYLIGHT
TZOFFSETFROM:+0100
TZOFFSETTO:+0200
TZNAME:CEST
DTSTART:20150329T010000
END:DAYLIGHT
BEGIN:STANDARD
TZOFFSETFROM:+0200
TZOFFSETTO:+0100
TZNAME:CET
DTSTART:20151025T010000
END:STANDARD
END:VTIMEZONE
BEGIN:VEVENT
DTSTART;TZID=Europe/Oslo:20141014T141500
DTEND;TZID=Europe/Oslo:20141014T153000
DTSTAMP:20260423T070345
CREATED:20140929T120844Z
LAST-MODIFIED:20141009T114247Z
UID:3173-1413296100-1413300600@beccle.no
SUMMARY:Picking a Partner among Competitors when Size Matters: The Norwegian Grocery Market
DESCRIPTION:photo: NHH and Helge Skodvin\n  \nSpeakers:\nØytein Foros\nProfessor\, dr. oecon\, the Norwegian School of Economics\, Department of Business and Management Science.\n  \nHans Jarle Kind\nProfessor\, dr. oecon\, The Norwegian School of Economics\, Department of Economics.\n  \nLocation: Auditorium\, Ground floor\, Jekteviksbakken 31\nOutside guests should use the entrance from Torborg Nedreaas’ gate or enter through the Faculty of Law’s main entrance.\n  \nThe seminar will not be streamed live.\n  \n  \nOn the topic: \nThe partnership between ICA and NorgesGruppen on procurement and distribution was controversial\, and the dating game in the Norwegian market continues through the Coop ICA merger. Common sense among market players seems to be that size matters for profitability as well as for retail pricing. On Tuesday 14 October Kind and Foros will present their work in which they have set up a model which captures the fact that size might matter for retail pricing\, and analyses the effects that a partnership on distribution and procurement between rivals have on retail pricing. Furthermore\, they have investigated whether there are incentives to form industry-wide partnerships.\nThe seminar will be held in English\n  \n  \n  \n 
URL:https://beccle.no/event/picking-a-partner-among-competitors-when-size-matters-the-norwegian-grocery-market/
LOCATION:Auditoriet\, Jus II\, University of Bergen\, Jekteviksbakken 31\, Bergen\, Norway
CATEGORIES:Events
ATTACH;FMTTYPE=image/png:https://beccle.no/files/2014/09/Beccleseminar-når-størrelse-teller1.png
END:VEVENT
END:VCALENDAR