BEGIN:VCALENDAR
VERSION:2.0
PRODID:-// - ECPv6.15.20//NONSGML v1.0//EN
CALSCALE:GREGORIAN
METHOD:PUBLISH
X-ORIGINAL-URL:https://beccle.no
X-WR-CALDESC:Events for 
REFRESH-INTERVAL;VALUE=DURATION:PT1H
X-Robots-Tag:noindex
X-PUBLISHED-TTL:PT1H
BEGIN:VTIMEZONE
TZID:Europe/Oslo
BEGIN:DAYLIGHT
TZOFFSETFROM:+0100
TZOFFSETTO:+0200
TZNAME:CEST
DTSTART:20140330T010000
END:DAYLIGHT
BEGIN:STANDARD
TZOFFSETFROM:+0200
TZOFFSETTO:+0100
TZNAME:CET
DTSTART:20141026T010000
END:STANDARD
BEGIN:DAYLIGHT
TZOFFSETFROM:+0100
TZOFFSETTO:+0200
TZNAME:CEST
DTSTART:20150329T010000
END:DAYLIGHT
BEGIN:STANDARD
TZOFFSETFROM:+0200
TZOFFSETTO:+0100
TZNAME:CET
DTSTART:20151025T010000
END:STANDARD
BEGIN:DAYLIGHT
TZOFFSETFROM:+0100
TZOFFSETTO:+0200
TZNAME:CEST
DTSTART:20160327T010000
END:DAYLIGHT
BEGIN:STANDARD
TZOFFSETFROM:+0200
TZOFFSETTO:+0100
TZNAME:CET
DTSTART:20161030T010000
END:STANDARD
END:VTIMEZONE
BEGIN:VEVENT
DTSTART;TZID=Europe/Oslo:20150410T130000
DTEND;TZID=Europe/Oslo:20150410T140000
DTSTAMP:20260422T222710
CREATED:20150407T062855Z
LAST-MODIFIED:20160404T203544Z
UID:3910-1428670800-1428674400@beccle.no
SUMMARY:BECCLE Seminar: Social Networks and the Demand for News
DESCRIPTION:We are pleased to invite you to a BECCLE Seminar with Lisa George on Social Networks and the Demand for News  \n  \nSpeaker:\nLisa George\nHunter Collge \n \nLocation: Room E209 (Department of Economics)\, Norwegian School of Economics\nThe seminar is free and open to the public. \n  \nOn the topic:\nThe well-documented relationship between group size and consumption in media markets is typically attributed to the incentive for firms to target products at large groups. Using data on monthly local and non-local visits to news outlets online\, we document a positive relationship between group population in local markets and consumption of national media online. This pattern of preference externalities cannot be explained by standard supply-side arguments. We offer evidence that local social networks increase with group size\, and that the richer social networks\nmade possible by larger groups with shared tastes can explain the relationship between local group size and consumption of national media. Social networks matter in the market for news.  \n \n 
URL:https://beccle.no/event/beccle-seminar-social-networks-and-the-demand-for-news/
LOCATION:Hordaland
CATEGORIES:Events
END:VEVENT
END:VCALENDAR