BEGIN:VCALENDAR
VERSION:2.0
PRODID:-// - ECPv6.15.20//NONSGML v1.0//EN
CALSCALE:GREGORIAN
METHOD:PUBLISH
X-ORIGINAL-URL:https://beccle.no
X-WR-CALDESC:Events for 
REFRESH-INTERVAL;VALUE=DURATION:PT1H
X-Robots-Tag:noindex
X-PUBLISHED-TTL:PT1H
BEGIN:VTIMEZONE
TZID:Europe/Oslo
BEGIN:DAYLIGHT
TZOFFSETFROM:+0100
TZOFFSETTO:+0200
TZNAME:CEST
DTSTART:20150329T010000
END:DAYLIGHT
BEGIN:STANDARD
TZOFFSETFROM:+0200
TZOFFSETTO:+0100
TZNAME:CET
DTSTART:20151025T010000
END:STANDARD
BEGIN:DAYLIGHT
TZOFFSETFROM:+0100
TZOFFSETTO:+0200
TZNAME:CEST
DTSTART:20160327T010000
END:DAYLIGHT
BEGIN:STANDARD
TZOFFSETFROM:+0200
TZOFFSETTO:+0100
TZNAME:CET
DTSTART:20161030T010000
END:STANDARD
BEGIN:DAYLIGHT
TZOFFSETFROM:+0100
TZOFFSETTO:+0200
TZNAME:CEST
DTSTART:20170326T010000
END:DAYLIGHT
BEGIN:STANDARD
TZOFFSETFROM:+0200
TZOFFSETTO:+0100
TZNAME:CET
DTSTART:20171029T010000
END:STANDARD
END:VTIMEZONE
BEGIN:VEVENT
DTSTART;TZID=Europe/Oslo:20160425T121500
DTEND;TZID=Europe/Oslo:20160425T133000
DTSTAMP:20260423T162304
CREATED:20160404T201103Z
LAST-MODIFIED:20170211T152841Z
UID:4418-1461586500-1461591000@beccle.no
SUMMARY:BECCLE seminar with Thibaud Verge: "Partial exclusivity"
DESCRIPTION:BECCLE is proud to be able to invite you to a seminar with Thibaud Verge on partial exclusivity \nSpeakers:\nThibaud Verge\nENSAE/CREST \nVerge’s slides are available here… \nTime and date: 12.15 – 13.30\, mandag 25. april\nPlace:NHH\, Institutt for samfunnsøkonomi
URL:https://beccle.no/event/beccle-seminar-med-thibaud-verge/
LOCATION:Hordaland
CATEGORIES:Events
END:VEVENT
END:VCALENDAR