BEGIN:VCALENDAR
VERSION:2.0
PRODID:-// - ECPv6.15.20//NONSGML v1.0//EN
CALSCALE:GREGORIAN
METHOD:PUBLISH
X-ORIGINAL-URL:https://beccle.no
X-WR-CALDESC:Events for 
REFRESH-INTERVAL;VALUE=DURATION:PT1H
X-Robots-Tag:noindex
X-PUBLISHED-TTL:PT1H
BEGIN:VTIMEZONE
TZID:Europe/Oslo
BEGIN:DAYLIGHT
TZOFFSETFROM:+0100
TZOFFSETTO:+0200
TZNAME:CEST
DTSTART:20160327T010000
END:DAYLIGHT
BEGIN:STANDARD
TZOFFSETFROM:+0200
TZOFFSETTO:+0100
TZNAME:CET
DTSTART:20161030T010000
END:STANDARD
BEGIN:DAYLIGHT
TZOFFSETFROM:+0100
TZOFFSETTO:+0200
TZNAME:CEST
DTSTART:20170326T010000
END:DAYLIGHT
BEGIN:STANDARD
TZOFFSETFROM:+0200
TZOFFSETTO:+0100
TZNAME:CET
DTSTART:20171029T010000
END:STANDARD
BEGIN:DAYLIGHT
TZOFFSETFROM:+0100
TZOFFSETTO:+0200
TZNAME:CEST
DTSTART:20180325T010000
END:DAYLIGHT
BEGIN:STANDARD
TZOFFSETFROM:+0200
TZOFFSETTO:+0100
TZNAME:CET
DTSTART:20181028T010000
END:STANDARD
END:VTIMEZONE
BEGIN:VEVENT
DTSTART;TZID=Europe/Oslo:20170213T140000
DTEND;TZID=Europe/Oslo:20170213T160000
DTSTAMP:20260423T192015
CREATED:20170208T130244Z
LAST-MODIFIED:20171217T184119Z
UID:4670-1486994400-1487001600@beccle.no
SUMMARY:BECCLE-seminar: Delingsøkonomi - muligheter og utfordringer
DESCRIPTION:Mandag 6 februar overleverte delingsøkonomiutvalget sin rapport til finansminister Siv Jensen. Forslagene fra utvalget har vakt interesse og debatt.  BECCLE har gleden av å inviterer til et seminar der utvalgets forslag blir presentert\, og der vi diskuterer noen av forslagene fra utvalget. \nSeminaret vil strømmes direkte her…\nInnledere: \n\nProfessor Tommy Staahl Gabrielsen\nInstitutt for økonomi\, UiB\, BECCLE og leder for delingsøkonomiutvalget\nProfessor Espen R. Moen\nBI og medlem av delingsøkonomiutvalget\nStortingsrepresentant Heikki Holmås\nSV\, Energi-\, miljø og transportpolitisk talsperson\nOscar Hellenes\nLotel Grunder\n\n  \nTid og dato: kl. 14.00 – 16.00\, Mandag 13. februar.\nSted: Auditorium 2\, juridisk fakultet\, Magnus Lagabøtes plass 1\nSeminaret er gratis og åpen for publikum \nDelingsøkonomiutvalet\, foreslår at delingsplattformer som Uber\, Airbnb og andre bør underleggjast ein generell rapporteringsplikt til skattemyndigheitene\, og eit fleirtal foreslår ei forenkla skattehandsaming av småinntekter frå tjenester i delingsøkonomien. BECCLEs Professor Tommy Staahl Gabrielsen har leia utvalet\, som i tillegg foreslår ei endra regulering av taximarknaden som mogleggjer etablering av delingskøyring. \n«Rettstilstanden på området er uavklart\, noko som er uhaldbart både for kundar og tilbydarar» \nGabrielsen underviser i samfunnsøkonomi ved Universitetet i Bergen\, og er i tillegg leiar for Bergen Center for Competition Law and Economics (BECCLE). Han har leia arbeidet med å vurdere moglegheiter og utfordringar med delingsøkonomien\, som gir blant anna privatpersonar høve til å tene pengar på privat tenesteyting og utleie. Eksempel på slike teneste er transportportalane Uber\, Lyft og Haxi\, og overnattingsselskapet AirBnB. Det er i dag for eksempel uavklart om selskap som Uber og Haxi faktisk er lovlege i Norge eller ikkje.«Rettstilstanden på området er uavklart\, noko som er uhaldbart både for kundar og tilbydarar»\, seier Gabrielsen. \nFleirtalet i utvalet meiner at reguleringar i persontransportmarknaden hindrar aktørar med andre forretningsmodellar i å etablere seg. Dette hindrar konkurransen og påfører samfunnet eit tap. «Difor foreslår vi å oppheve løyvekravet og den tilhøyrande behovsprøvinga for å drive persontransport mot vederlag. Vi foreslår nye reguleringar som kan ivareta kundenes behov for sikkerhet og prisinformasjon\, samt at inntektene blir rapportert til skattemyndighetene»\, Seier Gabrielsen \nBør betale skatt\nUtvalet meiner også at skattereglene for inntekter frå delingsøkonomien kan framstå som uklare og kompliserte\, og at skattemyndigheitene si kontroll med inntektene bør styrkast. Utvalet foreslår difor at formidlingsportalane bør påleggast ei obligatorisk rapporteringsplikt om tilbydarane sine inntekter frå delingsaktiviteter. \nUtvalet meiner at skattemyndighetene må tydeliggjøre grensene mellom verksemd og skattefrie hobbyinntekter\, og foreslår ein forenkla skattehandsaming av småinntekter frå delingstjenester\, som for eksempel delingskjøring. Fleirtalet foreslår også ein utvida skatteplikt for småskala korttidsutleie av eigen bustad. \n«Korttidsutleige av eigen bustad kan involvere mykje arbeidsinnsats i form av tilrettelegging\, og fleirtalet meiner at fortsatt skattefritak for denne type utleie vil kunne skape vridingar i arbeidsmarknaden som er uheldige for samfunnet»\, seier Gabrielsen. \nOriginally published on www.uib.no
URL:https://beccle.no/event/delingsokonomi-muligheter-og-utfordringer/
LOCATION:Auditorium 2\, Juridisk Fakultet\, UiB\, Magnus Lagabøtes plass 1\, Bergen\, 5050\, Norway
CATEGORIES:Events
ATTACH;FMTTYPE=image/jpeg:https://beccle.no/files/2017/12/featured-taxi.jpg
END:VEVENT
END:VCALENDAR