BEGIN:VCALENDAR
VERSION:2.0
PRODID:-// - ECPv6.15.20//NONSGML v1.0//EN
CALSCALE:GREGORIAN
METHOD:PUBLISH
X-ORIGINAL-URL:https://beccle.no
X-WR-CALDESC:Events for 
REFRESH-INTERVAL;VALUE=DURATION:PT1H
X-Robots-Tag:noindex
X-PUBLISHED-TTL:PT1H
BEGIN:VTIMEZONE
TZID:Europe/Oslo
BEGIN:DAYLIGHT
TZOFFSETFROM:+0100
TZOFFSETTO:+0200
TZNAME:CEST
DTSTART:20160327T010000
END:DAYLIGHT
BEGIN:STANDARD
TZOFFSETFROM:+0200
TZOFFSETTO:+0100
TZNAME:CET
DTSTART:20161030T010000
END:STANDARD
BEGIN:DAYLIGHT
TZOFFSETFROM:+0100
TZOFFSETTO:+0200
TZNAME:CEST
DTSTART:20170326T010000
END:DAYLIGHT
BEGIN:STANDARD
TZOFFSETFROM:+0200
TZOFFSETTO:+0100
TZNAME:CET
DTSTART:20171029T010000
END:STANDARD
BEGIN:DAYLIGHT
TZOFFSETFROM:+0100
TZOFFSETTO:+0200
TZNAME:CEST
DTSTART:20180325T010000
END:DAYLIGHT
BEGIN:STANDARD
TZOFFSETFROM:+0200
TZOFFSETTO:+0100
TZNAME:CET
DTSTART:20181028T010000
END:STANDARD
END:VTIMEZONE
BEGIN:VEVENT
DTSTART;VALUE=DATE:20170421
DTEND;VALUE=DATE:20170427
DTSTAMP:20260423T162254
CREATED:20170116T110907Z
LAST-MODIFIED:20170418T134023Z
UID:4617-1492732800-1493251199@beccle.no
SUMMARY:PhD Course on the Economics of Exclusion
DESCRIPTION:The University of Bergen is delighted to announce an intensive PhD course by Greg Shaffer (University of Rochester and UoB/BECCLE) on the “economics of exclusion” immediately prior to the 2017 Bergen Competition Policy Conference \nLecturer:\nProfessor Greg Shaffer\nSimon Business School\, University of Rochester \nClass times: 10:15-12:00\, 13:15-15:00 (Friday\, Saturday\, Monday\, Tuesday and Wednesday)\nLocation: TBA \nRegistration:  \n\nApplicants at the University of Bergen may register for the PhD Course at StudentWeb…\nExternal applicants may register by filling out this registration form…\n\n  \nDownload full description and syllabus here…\nThe use of contracts in vertical settings to deter potential rivals is an active area of research and of great interest to policy makers. Firms that have such contracts are often found to be abusing their position of dominance. In May 2009\, for example\, the European Commission fined Intel 1.06 billion Euros for abusing its dominant position in the market for computer chips and ordered it\, among other things\, to stop offering discounts to retailers that were contingent on their buying less of a rival’s product. It was the largest such fine ever imposed by the Commission for breach of competition law. In this course\, we will consider the pros and cons of contracts of the form engaged in by Intel and other dominant firms\, and we will pay particular attention to how these firms are able to induce their downstream buyers to agree to terms that would seemingly not be in their immediate or long-run interest. Among other things\, we will look at exclusionary contracts that feature one or more of the following: exclusive-dealing clauses\, market-share requirements\, loyalty discounts\, bundled discounts\, all-units discounts\, and incremental quantity discounts. We will also discuss their policy implications. \nCourse Requirements: take-home exam\nA take-home exam consisting of four to five questions will be provided to you shortly after the course ends on the 26th April. The exam will be due two weeks from the date you receive it. \nBackground and reading materials\nRelevant papers are listed in the full syllabus for each of the lectures. Required readings are denoted with an asterisk (the remaining readings are supplemental).  \nA basic knowledge of static oligopoly theory is assumed (i.e.\, Cournot\, Bertrand\, and Stackelberg models). A basic knowledge of game theory (e.g.\, simultaneous and sequential move games\, standard solution concepts) is also assumed. A good way to get up to speed on this would be to consult the relevant chapters in one of the standard graduate I.O. textbooks. Two of Shaffer’s favorites are (i) Jean Tirole\, The Theory of Industrial Organization\, MIT Press\, 1988\, and (ii) Xavier Vives\, Oligopoly Pricing: Old Ideas and New Tools\, MIT Press\, 1999.
URL:https://beccle.no/event/phd-course-on-the-economics-of-exclusion-21-26-april/
LOCATION:Hordaland
CATEGORIES:Events
END:VEVENT
END:VCALENDAR