BEGIN:VCALENDAR
VERSION:2.0
PRODID:-// - ECPv6.15.20//NONSGML v1.0//EN
CALSCALE:GREGORIAN
METHOD:PUBLISH
X-ORIGINAL-URL:https://beccle.no
X-WR-CALDESC:Events for 
REFRESH-INTERVAL;VALUE=DURATION:PT1H
X-Robots-Tag:noindex
X-PUBLISHED-TTL:PT1H
BEGIN:VTIMEZONE
TZID:Europe/Oslo
BEGIN:DAYLIGHT
TZOFFSETFROM:+0100
TZOFFSETTO:+0200
TZNAME:CEST
DTSTART:20170326T010000
END:DAYLIGHT
BEGIN:STANDARD
TZOFFSETFROM:+0200
TZOFFSETTO:+0100
TZNAME:CET
DTSTART:20171029T010000
END:STANDARD
BEGIN:DAYLIGHT
TZOFFSETFROM:+0100
TZOFFSETTO:+0200
TZNAME:CEST
DTSTART:20180325T010000
END:DAYLIGHT
BEGIN:STANDARD
TZOFFSETFROM:+0200
TZOFFSETTO:+0100
TZNAME:CET
DTSTART:20181028T010000
END:STANDARD
BEGIN:DAYLIGHT
TZOFFSETFROM:+0100
TZOFFSETTO:+0200
TZNAME:CEST
DTSTART:20190331T010000
END:DAYLIGHT
BEGIN:STANDARD
TZOFFSETFROM:+0200
TZOFFSETTO:+0100
TZNAME:CET
DTSTART:20191027T010000
END:STANDARD
END:VTIMEZONE
BEGIN:VEVENT
DTSTART;TZID=Europe/Oslo:20181026T130000
DTEND;TZID=Europe/Oslo:20181026T160000
DTSTAMP:20260423T070303
CREATED:20180927T130337Z
LAST-MODIFIED:20181031T105333Z
UID:5574-1540558800-1540569600@beccle.no
SUMMARY:BECCLE-seminar: forhandlinger og kvalifikasjonskrav
DESCRIPTION:BECCLE har gleden av å invitere til et halvdagsseminar om forhandlinger og kvalifikasjonskrav i offentlige anskaffelser\, med Linda Midtun\, Anders Thue og Lene Kristin Hennø.  \nI seminaret vil vi diskutere om man etter regelverket for offentlige anskaffelser har adgang til å forhandle bort vesentlige avvik i tilbudene\, fremgangsmåten ved reduksjon av antallet tilbud en i konkurranse med forhandling\, og mulighetene leverandører har til å støtte seg på andre virksomheter for å oppfylle kvalifikasjonskrav. Spørsmålet om adgangen til å bortforhandle vesentlige avvik har vært omsdiskutert siden EU-domstolens dom i Nordecon\, sak C-561/12\, og muligheten til å støtte seg på andre virksomheter for å oppfylle kvalifikasjonskrav i en konkurranse har vist seg å by på utfordringer i praksis. \nTid: Fredag 26. oktober kl. 13.00 – 16.00\nSted: Seminarrom E\, Det juridiske fakultet\, UiB\nPåmelding:seminaret er gratis of åpent for alle\, men vi setter pris på at du melder deg på.\nFelles søknad om godkjenning som etterutdanning for advokater kan sendes i etterkant av seminaret. \n+ MELD MEG PÅ\nInnledere:\nAnders ThuePartnerSimonsen Vogt WiigLene Kristin HennøAdvokatWikrborg ReinLinda MidtunStipendiatDet juridiske fakultet\, UiB\, og BECCLE \nProgram: \n\n13.00 – 14.00: Linda Midtun – «Konkurranse med forhandling: Adgang til å forhandle bort vesentlige avvik?»\n14.00 – 15.00: Anders Thue – «Reduksjon av antall tilbud eller løsninger etter foa § 23-11»\n15.00 – 16.00: Lene Kristin Hennø – «Adgangen til å støtte seg på andre foretak etter foa § 16-11»\n\nPresentasjoner: \nKonkurranse med forhandling – kan avvik forhandles bort\nNedvalg – reduksjon av antall tilbud etter § 23-11\nAdgangen til å støtte seg på andre foretak etter § 16-11
URL:https://beccle.no/event/beccle-seminar-forhandlinger-og-kvalifikasjonskrav/
LOCATION:Seminarrom E\, Det juridiske fakultet\, UiB\, Magnus Lagabøtes plass 1\, Bergen\, Hordaland\, 5010\, Norway
CATEGORIES:Events,Seminar
ATTACH;FMTTYPE=image/png:https://beccle.no/files/2018/09/forhandling.png
ORGANIZER;CN="Linda Midtun":MAILTO:Linda.Midtun@uib.no
END:VEVENT
END:VCALENDAR