BEGIN:VCALENDAR
VERSION:2.0
PRODID:-// - ECPv6.15.20//NONSGML v1.0//EN
CALSCALE:GREGORIAN
METHOD:PUBLISH
X-ORIGINAL-URL:https://beccle.no
X-WR-CALDESC:Events for 
REFRESH-INTERVAL;VALUE=DURATION:PT1H
X-Robots-Tag:noindex
X-PUBLISHED-TTL:PT1H
BEGIN:VTIMEZONE
TZID:Europe/Oslo
BEGIN:DAYLIGHT
TZOFFSETFROM:+0100
TZOFFSETTO:+0200
TZNAME:CEST
DTSTART:20170326T010000
END:DAYLIGHT
BEGIN:STANDARD
TZOFFSETFROM:+0200
TZOFFSETTO:+0100
TZNAME:CET
DTSTART:20171029T010000
END:STANDARD
BEGIN:DAYLIGHT
TZOFFSETFROM:+0100
TZOFFSETTO:+0200
TZNAME:CEST
DTSTART:20180325T010000
END:DAYLIGHT
BEGIN:STANDARD
TZOFFSETFROM:+0200
TZOFFSETTO:+0100
TZNAME:CET
DTSTART:20181028T010000
END:STANDARD
BEGIN:DAYLIGHT
TZOFFSETFROM:+0100
TZOFFSETTO:+0200
TZNAME:CEST
DTSTART:20190331T010000
END:DAYLIGHT
BEGIN:STANDARD
TZOFFSETFROM:+0200
TZOFFSETTO:+0100
TZNAME:CET
DTSTART:20191027T010000
END:STANDARD
END:VTIMEZONE
BEGIN:VEVENT
DTSTART;TZID=Europe/Oslo:20181121T120000
DTEND;TZID=Europe/Oslo:20181121T133000
DTSTAMP:20260423T083737
CREATED:20181109T132305Z
LAST-MODIFIED:20181113T131237Z
UID:5774-1542801600-1542807000@beccle.no
SUMMARY:Seminar om sukkeravgifter i lys av statsstøtteregelverket
DESCRIPTION:BECCLE og Forskergruppen for konkurranse- og markedsrett har gleden av å invitere til et seminar om sukkeravgifter i lys av statsstøtteregelverket. \nEtter at forslaget til statsbudsjettet for 2019 ble lagt frem\, har problemene med å skille mellom en marsipangris og en marsipanpølse i statsstøtteretten nok en gang fått oppmerksomhet. De omstridte og kraftige økningene i avgiftene på sjokolade- og sukkervarer\, og alkoholfrie drikkevarer\, ble klaget inn til EØS-avtalens tilsynsorgan\, ESA\, med den begrunnelse at avgiftene utgjør statsstøtte i strid med EØS-avtalen. \nMens man venter på ESAs vurdering er det interessant å få med seg hvordan enkelte EU-medlemsstater har utformet avgifter som også omtales som sukkeravgifter. Den 24. april 2018 godkjente EU-kommisjonen den irske sukkeravgiften; den danske er fortsatt under vurdering. \nPå dette seminaret vil Marteen Aalbers redegjøre for hvordan EU-kommisjonen ser på sukkeravgifter/sukkerskatter\, og Malgorzata Cyndecka skal gi en kort presentasjon av den norske ordningen. \nTid: Onsdag 21. november kl. 12.00 – 13.30\nSted: Seminarrom 2\, Det juridiske fakultet\, UiB \nPåmelding:Av hensyn til matbestilling er det påkrevd med påmelding til Malgorzata.Cyndecka@uib.no senest fredag den 16. november 2018. \nVel møtt.
URL:https://beccle.no/event/seminar-om-sukkeravgifter-i-lys-av-statsstotteregelverket/
LOCATION:Seminarrom 2\, Det juridiske fakultet\, UiB
CATEGORIES:Events,Seminar
ATTACH;FMTTYPE=image/jpeg:https://beccle.no/files/2018/11/suger-tax.jpg
ORGANIZER;CN="Malgorzata Agnieszka Cyndecka":MAILTO:Malgorzata.Cyndecka@uib.no
END:VEVENT
END:VCALENDAR