BEGIN:VCALENDAR
VERSION:2.0
PRODID:-// - ECPv6.15.20//NONSGML v1.0//EN
CALSCALE:GREGORIAN
METHOD:PUBLISH
X-ORIGINAL-URL:https://beccle.no
X-WR-CALDESC:Events for 
REFRESH-INTERVAL;VALUE=DURATION:PT1H
X-Robots-Tag:noindex
X-PUBLISHED-TTL:PT1H
BEGIN:VTIMEZONE
TZID:Europe/Oslo
BEGIN:DAYLIGHT
TZOFFSETFROM:+0100
TZOFFSETTO:+0200
TZNAME:CEST
DTSTART:20170326T010000
END:DAYLIGHT
BEGIN:STANDARD
TZOFFSETFROM:+0200
TZOFFSETTO:+0100
TZNAME:CET
DTSTART:20171029T010000
END:STANDARD
BEGIN:DAYLIGHT
TZOFFSETFROM:+0100
TZOFFSETTO:+0200
TZNAME:CEST
DTSTART:20180325T010000
END:DAYLIGHT
BEGIN:STANDARD
TZOFFSETFROM:+0200
TZOFFSETTO:+0100
TZNAME:CET
DTSTART:20181028T010000
END:STANDARD
BEGIN:DAYLIGHT
TZOFFSETFROM:+0100
TZOFFSETTO:+0200
TZNAME:CEST
DTSTART:20190331T010000
END:DAYLIGHT
BEGIN:STANDARD
TZOFFSETFROM:+0200
TZOFFSETTO:+0100
TZNAME:CET
DTSTART:20191027T010000
END:STANDARD
END:VTIMEZONE
BEGIN:VEVENT
DTSTART;TZID=Europe/Oslo:20181204T120000
DTEND;TZID=Europe/Oslo:20181204T130000
DTSTAMP:20260423T101226
CREATED:20181203T101526Z
LAST-MODIFIED:20181203T102915Z
UID:5849-1543924800-1543928400@beccle.no
SUMMARY:New seminar: State aid applied to environmental taxes
DESCRIPTION:Photo by Patrick Hendry on Unsplash\n \nResearch group for Competition and Market Law\, Bergen Center for Competition Law and Economics (BECCLE) and Centre for climate and energy transformation (CET) have the pleasure to invite all who are interested in Green taxation and EU/EEA State aid rules to a seminar with Joana Pedroso\, a PhD Student in Tax Law at the Department of Law at Gothenburg University.\n \nThe full title of the seminar is:\n“State aid applied to environmental taxes – An analysis of the environmental protection and sustainable development objectives integration within the internal market”\n \nThe seminar will be in english.\n  \nTime: Tuesday December 4\, 12.00 – 13.00\nPlace: Magnus Lagabøtes plass 1\, Jusbygget\, Seminar room 2 (408)\, 4th floor (circle formed) \nRegistration:Email to Judith.Dalsgard@uib.no (as soon as possible). \nWelcome!
URL:https://beccle.no/event/state-aid-applied-to-environmental-taxes/
LOCATION:Seminarrom 2\, Det juridiske fakultet\, UiB
CATEGORIES:Events,Seminar
ATTACH;FMTTYPE=image/jpeg:https://beccle.no/files/2018/12/patrick-hendry-532214-unsplash-e1543831983414.jpg
ORGANIZER;CN="Malgorzata Agnieszka Cyndecka":MAILTO:Malgorzata.Cyndecka@uib.no
END:VEVENT
END:VCALENDAR