BEGIN:VCALENDAR
VERSION:2.0
PRODID:-// - ECPv6.15.20//NONSGML v1.0//EN
CALSCALE:GREGORIAN
METHOD:PUBLISH
X-ORIGINAL-URL:https://beccle.no
X-WR-CALDESC:Events for 
REFRESH-INTERVAL;VALUE=DURATION:PT1H
X-Robots-Tag:noindex
X-PUBLISHED-TTL:PT1H
BEGIN:VTIMEZONE
TZID:Europe/Oslo
BEGIN:DAYLIGHT
TZOFFSETFROM:+0100
TZOFFSETTO:+0200
TZNAME:CEST
DTSTART:20180325T010000
END:DAYLIGHT
BEGIN:STANDARD
TZOFFSETFROM:+0200
TZOFFSETTO:+0100
TZNAME:CET
DTSTART:20181028T010000
END:STANDARD
BEGIN:DAYLIGHT
TZOFFSETFROM:+0100
TZOFFSETTO:+0200
TZNAME:CEST
DTSTART:20190331T010000
END:DAYLIGHT
BEGIN:STANDARD
TZOFFSETFROM:+0200
TZOFFSETTO:+0100
TZNAME:CET
DTSTART:20191027T010000
END:STANDARD
BEGIN:DAYLIGHT
TZOFFSETFROM:+0100
TZOFFSETTO:+0200
TZNAME:CEST
DTSTART:20200329T010000
END:DAYLIGHT
BEGIN:STANDARD
TZOFFSETFROM:+0200
TZOFFSETTO:+0100
TZNAME:CET
DTSTART:20201025T010000
END:STANDARD
END:VTIMEZONE
BEGIN:VEVENT
DTSTART;TZID=Europe/Oslo:20190114T090000
DTEND;TZID=Europe/Oslo:20190115T123000
DTSTAMP:20260423T113854
CREATED:20181221T095745Z
LAST-MODIFIED:20190108T103841Z
UID:5878-1547456400-1547555400@beccle.no
SUMMARY:Conference on Developments in Energy Markets
DESCRIPTION:Photo by Basil Samuel Lade on Unsplash.\n \nThe Bergen Center for Competition Law & Economics (BECCLE) invites you to the international conference “Developments in Energy Markets: A multidisciplinary perspective”. This event will take place on the 14th and 15th of January 2019\, at the Law Faculty of the University of Bergen.\n  \nThe event is part of the research project “Regulating energy markets\, a perspective from EEA/EU Competition and Public Procurement Law” financed thanks to the support of the AkademiaAvtalen (UiB and Equinor ASA)\n \nProgram:\nThe program can be downloaded here.\n \nThe conference aims to gather energy academics and practitioners from different backgrounds and disciplines to foster multidisciplinary exchange and future collaboration by serving as a forum for discussion of relevant and timely topics of interest in the energy world. Our focus will the future of energy markets and the intersection of law\, economics\, new technologies and economic geography.\n \nRegistration:\nIn case you would like to participate\, please send an email to Ignacio Herrera Anchustegui  to register your participation. You are welcome to participate both days or just some particular sessions only\, depending on your schedule. Please do not hesitate to contact us in case you would require any additional information.\n \nConference venue:\nMon 14th: Auditorium at Jekteviksbakken 31 (Juss 2)\, entrance from Jekteviken or via the Faculty of Law.\nTue 15th: Auditorium 4 at the Faculty of Law (Dragefjellet skole)\, Magnus Lagabøtes Plass 1.
URL:https://beccle.no/event/conference-on-developments-in-energy-markets/
LOCATION:Det juridiske fakultet\, UiB\, Magnus Lagabøtes Plass 1\, Bergen\, 5010\, Norway
CATEGORIES:Conference,Events
ATTACH;FMTTYPE=image/jpeg:https://beccle.no/files/2018/09/electricity-unsplash-e1538232766446.jpg
ORGANIZER;CN="Ignacio Herrera Anchustegui":MAILTO:Ignacio.Herrera-Anchustegui@uib.no
END:VEVENT
END:VCALENDAR