BEGIN:VCALENDAR
VERSION:2.0
PRODID:-// - ECPv6.15.20//NONSGML v1.0//EN
CALSCALE:GREGORIAN
METHOD:PUBLISH
X-ORIGINAL-URL:https://beccle.no
X-WR-CALDESC:Events for 
REFRESH-INTERVAL;VALUE=DURATION:PT1H
X-Robots-Tag:noindex
X-PUBLISHED-TTL:PT1H
BEGIN:VTIMEZONE
TZID:Europe/Oslo
BEGIN:DAYLIGHT
TZOFFSETFROM:+0100
TZOFFSETTO:+0200
TZNAME:CEST
DTSTART:20190331T010000
END:DAYLIGHT
BEGIN:STANDARD
TZOFFSETFROM:+0200
TZOFFSETTO:+0100
TZNAME:CET
DTSTART:20191027T010000
END:STANDARD
BEGIN:DAYLIGHT
TZOFFSETFROM:+0100
TZOFFSETTO:+0200
TZNAME:CEST
DTSTART:20200329T010000
END:DAYLIGHT
BEGIN:STANDARD
TZOFFSETFROM:+0200
TZOFFSETTO:+0100
TZNAME:CET
DTSTART:20201025T010000
END:STANDARD
BEGIN:DAYLIGHT
TZOFFSETFROM:+0100
TZOFFSETTO:+0200
TZNAME:CEST
DTSTART:20210328T010000
END:DAYLIGHT
BEGIN:STANDARD
TZOFFSETFROM:+0200
TZOFFSETTO:+0100
TZNAME:CET
DTSTART:20211031T010000
END:STANDARD
END:VTIMEZONE
BEGIN:VEVENT
DTSTART;TZID=Europe/Oslo:20200423T080000
DTEND;TZID=Europe/Oslo:20200424T170000
DTSTAMP:20260422T194630
CREATED:20191203T074136Z
LAST-MODIFIED:20200312T183646Z
UID:6245-1587628800-1587747600@beccle.no
SUMMARY:Canceled: Bergen Competition Policy Conference 2020
DESCRIPTION:The BECCLE conference has been canceled due to the recent developments of COVID-19 outbreak in Norway. We are considering the possibility of setting a new date for the conference this fall.\n* \nBergen Center for Competition Law and Economics (BECCLE) is pleased to announce the sixth annual conference on competition policy on the 23st and 24nd of April in Bergen\, Norway.\nThe conference combines sessions with invited speakers and presentations and discussions of original research papers in the fields of competition law and economics. \nTime and date: 23 and 24 April 2020\nLocation: NHH Norwegian School of Economics\nContact: For any questions\, please contact the organising committee via beccle2020@nhh.no  \nFor the open sessions at the BECCLE conference\, we welcome both theoretical and empirical papers\, as well as case studies. Lawyers are especially encouraged to submit papers. Submission deadline expired on February 3\, 2020. Authors of accepted papers will be notified no later than March 9\, 2020. All papers will be allocated a discussant\, and presenters may be asked to discuss a paper. \nRegister here\nKeynote speakers \n\nProfessor Aviv Nevo\, University of Pennsylvania\nProfessor Bruno Jullien\, TSE\nMore speakers will be announced soon\n\nInvited speakers: \n\nProfessor Armin Schmutzler\, University of Zurich\nProfessor Stephen Davies\, University of East Anglia\nAssociate Professor Chiara Fumagalli\, Bocconi University\nProfessor Thibaud Vergé\, CREST\, ENSAE ParisTech.\nProfessor Joseph Harrington\, University of Pennsylvania\n\nAdditional Information \nThere is no conference fee. We offer lunch free of charge to all attendees. We also offer a conference dinner (free of charge) to all presenters. \nWe have reserved a room block for our conference participants at Thon Hotel Orion. Please check this web page for reservation and rate information. Booking deadline: Friday 3 April. \nConference organizers\nScientific Committee \n\nGreg Shaffer (U Rochester and UoB/BECCLE)\nThibaud Verge (ENSAE ParisTech and NHH/BECCLE)\nÖzlem Bedre-Defolie (ESMT Berlin)\nJoseph Harrington (U Pennsylvania and NHH/BECCLE)\nErling Hjelmeng (U Oslo and BECCLE)\nFrode Steen (NHH and BECCLE)\nMalin Arve (NHH and BECCLE)\nTommy Staahl Gabrielsen (U Bergen and BECCLE)\nRonny Gjendemsjø (U Bergen and BECCLE)\nIgnacio Herrera Anchustegui (U Bergen and BECCLE)\nSimen Aardal Ulsaker (NHH and BECCLE)\nBjørn Olav Johansen (U Bergen and BECCLE)\nTore Nilssen (U Oslo and BECCLE)\n\nLocal Organising Committee \n\nOlga Pushkash (NHH)\nAlina Ozhegova (NHH and BECCLE)\nEmil Mathias Strøm Halseth (NHH and BECCLE)\nIngrid Halvorsen Barlund (U Bergen and BECCLE)\nTeis Lunde Lømo (U Bergen and BECCLE).
URL:https://beccle.no/event/bergen-competition-policy-conference-2020/
LOCATION:NHH\, Helleveien 30\, Bergen\, 5045\, Norway
CATEGORIES:Conference
ATTACH;FMTTYPE=image/jpeg:https://beccle.no/files/2019/12/mellomgård-scaled.jpg
END:VEVENT
END:VCALENDAR