BEGIN:VCALENDAR
VERSION:2.0
PRODID:-// - ECPv6.15.20//NONSGML v1.0//EN
CALSCALE:GREGORIAN
METHOD:PUBLISH
X-ORIGINAL-URL:https://beccle.no
X-WR-CALDESC:Events for 
REFRESH-INTERVAL;VALUE=DURATION:PT1H
X-Robots-Tag:noindex
X-PUBLISHED-TTL:PT1H
BEGIN:VTIMEZONE
TZID:Europe/Oslo
BEGIN:DAYLIGHT
TZOFFSETFROM:+0100
TZOFFSETTO:+0200
TZNAME:CEST
DTSTART:20210328T010000
END:DAYLIGHT
BEGIN:STANDARD
TZOFFSETFROM:+0200
TZOFFSETTO:+0100
TZNAME:CET
DTSTART:20211031T010000
END:STANDARD
BEGIN:DAYLIGHT
TZOFFSETFROM:+0100
TZOFFSETTO:+0200
TZNAME:CEST
DTSTART:20220327T010000
END:DAYLIGHT
BEGIN:STANDARD
TZOFFSETFROM:+0200
TZOFFSETTO:+0100
TZNAME:CET
DTSTART:20221030T010000
END:STANDARD
BEGIN:DAYLIGHT
TZOFFSETFROM:+0100
TZOFFSETTO:+0200
TZNAME:CEST
DTSTART:20230326T010000
END:DAYLIGHT
BEGIN:STANDARD
TZOFFSETFROM:+0200
TZOFFSETTO:+0100
TZNAME:CET
DTSTART:20231029T010000
END:STANDARD
END:VTIMEZONE
BEGIN:VEVENT
DTSTART;TZID=Europe/Oslo:20220901T100000
DTEND;TZID=Europe/Oslo:20220901T113000
DTSTAMP:20260420T190620
CREATED:20220812T111057Z
LAST-MODIFIED:20220830T100128Z
UID:6815-1662026400-1662031800@beccle.no
SUMMARY:Er fusjonskontrollen for streng?
DESCRIPTION:Seminar om inngrep mot fusjoner og oppkjøp\nGriper Konkurransetilsynet for ofte inn mot fusjoner og oppkjøp i Norge\, eller burde det blitt grepet enda oftere inn mot fusjoner og oppkjøp? Internasjonalt foregår det en debatt om dette temaet\, der både konkurransejurister og konkurranseøkonomer har ulike synspunkter på om dagens praksis er for streng. Det er også flere eksempler på at inngrep er blitt prøvet ut i rettssystemet. Denne internasjonale debatten er også relevant for Norge\, da vi har harmonisert vår inngrepsterskel med den som er i EU. \n \nDet er også en debatt i Norge om dette temaet\, blant annet som følge av at to forbudsvedtak fra Konkurransetilsynet før sommeren ble opphevet av hhv Konkurranseklagenemnda (DnB/Sbanken\, rettskraftig vedtak) og Gulating lagmannsrett (Finn/Nettbil\, anket til Høyesterett). Vurdert opp mot inngrepsterskelen (den såkalt SIEC – i betydelig grad vil hindre effektiv konkurranse)\, er Konkurransetilsynet for strenge eller for lite strenge? \n  \n  \n  \nVi ønsker å belyse dette spørsmålet både fra et juridisk og et økonomisk ståsted. Innledere er \n\n\n\n\n\nPartner Heidi Jorkjend\, Advokatfirmaet  Thommessen\nProfessor Eirik Østerud\, Institutt for Privatrett\, Universitetet i Oslo\nProfessor Tommy S. Gabrielsen\, Institutt for økonomi\, Universitetet i Bergen\n\n\n\n\n\nSeminaret vil bli holdt \n\nAuditorium 4\, Juridisk Fakultet\, Universitetet i Bergen\nTorsdag 1. september kl 10-11.30\n\nSeminaret vil også bli strømmet. Trykk HER for strømming.
URL:https://beccle.no/event/er-fusjonskontrollen-for-streng/
LOCATION:Auditorium 4\, Det juridiske fakultet\, UiB\, Magnus Lagabøtes plass 1\, Bergen\, Hordaland\, 5010\, Norway
CATEGORIES:Events,Seminar
END:VEVENT
END:VCALENDAR