BEGIN:VCALENDAR
VERSION:2.0
PRODID:-// - ECPv6.15.20//NONSGML v1.0//EN
CALSCALE:GREGORIAN
METHOD:PUBLISH
X-ORIGINAL-URL:https://beccle.no
X-WR-CALDESC:Events for 
REFRESH-INTERVAL;VALUE=DURATION:PT1H
X-Robots-Tag:noindex
X-PUBLISHED-TTL:PT1H
BEGIN:VTIMEZONE
TZID:Europe/Oslo
BEGIN:DAYLIGHT
TZOFFSETFROM:+0100
TZOFFSETTO:+0200
TZNAME:CEST
DTSTART:20210328T010000
END:DAYLIGHT
BEGIN:STANDARD
TZOFFSETFROM:+0200
TZOFFSETTO:+0100
TZNAME:CET
DTSTART:20211031T010000
END:STANDARD
BEGIN:DAYLIGHT
TZOFFSETFROM:+0100
TZOFFSETTO:+0200
TZNAME:CEST
DTSTART:20220327T010000
END:DAYLIGHT
BEGIN:STANDARD
TZOFFSETFROM:+0200
TZOFFSETTO:+0100
TZNAME:CET
DTSTART:20221030T010000
END:STANDARD
BEGIN:DAYLIGHT
TZOFFSETFROM:+0100
TZOFFSETTO:+0200
TZNAME:CEST
DTSTART:20230326T010000
END:DAYLIGHT
BEGIN:STANDARD
TZOFFSETFROM:+0200
TZOFFSETTO:+0100
TZNAME:CET
DTSTART:20231029T010000
END:STANDARD
END:VTIMEZONE
BEGIN:VEVENT
DTSTART;VALUE=DATE:20220928
DTEND;VALUE=DATE:20220929
DTSTAMP:20260420T172737
CREATED:20220911T162151Z
LAST-MODIFIED:20220911T162252Z
UID:6840-1664323200-1664409599@beccle.no
SUMMARY:From bid rigging to zero pricing
DESCRIPTION:BECCLE\, jointly with NHH\, SNF and UiB\, host this workshop gathering leading legal and economic experts specialized in the interaction between collusive practices and public procurements. Six international speakers plus the Head of The Norwegian Competition Authority\, Tina Søreide\, will be joining to discuss the law and economics of this important interaction. \nPlace: Karl Borch’s Auditorium\, Norwegian School of Economics \nTime: September 28\, 08.00-16.00 \nFor more information\, see HERE.
URL:https://beccle.no/event/from-bid-rigging-to-zero-pricing/
LOCATION:NHH\, Helleveien 30\, Bergen\, 5045\, Norway
CATEGORIES:Events
END:VEVENT
END:VCALENDAR