BEGIN:VCALENDAR
VERSION:2.0
PRODID:-// - ECPv6.15.20//NONSGML v1.0//EN
CALSCALE:GREGORIAN
METHOD:PUBLISH
X-ORIGINAL-URL:https://beccle.no
X-WR-CALDESC:Events for 
REFRESH-INTERVAL;VALUE=DURATION:PT1H
X-Robots-Tag:noindex
X-PUBLISHED-TTL:PT1H
BEGIN:VTIMEZONE
TZID:Europe/Oslo
BEGIN:DAYLIGHT
TZOFFSETFROM:+0100
TZOFFSETTO:+0200
TZNAME:CEST
DTSTART:20210328T010000
END:DAYLIGHT
BEGIN:STANDARD
TZOFFSETFROM:+0200
TZOFFSETTO:+0100
TZNAME:CET
DTSTART:20211031T010000
END:STANDARD
BEGIN:DAYLIGHT
TZOFFSETFROM:+0100
TZOFFSETTO:+0200
TZNAME:CEST
DTSTART:20220327T010000
END:DAYLIGHT
BEGIN:STANDARD
TZOFFSETFROM:+0200
TZOFFSETTO:+0100
TZNAME:CET
DTSTART:20221030T010000
END:STANDARD
BEGIN:DAYLIGHT
TZOFFSETFROM:+0100
TZOFFSETTO:+0200
TZNAME:CEST
DTSTART:20230326T010000
END:DAYLIGHT
BEGIN:STANDARD
TZOFFSETFROM:+0200
TZOFFSETTO:+0100
TZNAME:CET
DTSTART:20231029T010000
END:STANDARD
END:VTIMEZONE
BEGIN:VEVENT
DTSTART;TZID=Europe/Oslo:20221021T100000
DTEND;TZID=Europe/Oslo:20221021T120000
DTSTAMP:20260420T172738
CREATED:20220929T081952Z
LAST-MODIFIED:20220929T083029Z
UID:6862-1666346400-1666353600@beccle.no
SUMMARY:Market investigation tool in Norway?
DESCRIPTION:Market investigation tool in Norway?\n \nIn recent years\, there has been an ongoing debate about new competition law tools that could complement existing competition law tools. In the EU both the Digital Markets Act (DMA) and the Digital Services Act (DSA) have been heavily debated. At the same time there are countries such as Iceland and United Kingdom that already for many years have had a competition tool called “market investigation”. This is a tool that makes it possible to investigate a particular industry\, and propose measures to correct any adverse effect on competition even if there is no established violation of the competition rules. Earlier this year\, the Norwegian Ministry for Industry and Fisheries proposed that the Norwegian Competition Authority should be given the authority to perform market investigations\, similar to the CMA’s model. So far such a new competition tool has not been implemented. The seminar invites to a discussion on the pros and cons of such a new competition tool. To do this\, we have three distinguished speakers: \n\nSenior Director Daniel Gordon\, Competition & Markets Authority\, United Kingdom\nSenior Advisor Hans-Petter Håvås Hanson\, Norwegian Competition Authority\nPartner Kristin Hjelmaas Valla\, Kvale law firm\n\nDaniel Gordon will explain the market investigation tool that has been used in the UK for many years\, while Hans-Petter Håvås Hanson will discuss the main reasons for introducing such a competition tool in Norway. Kristin Hjelmaas Valla will discuss such a competition tool seen from the business society’s perspective. \n\nWhen: Friday October 21\, 10-12 am\nWhere: Auditorium 3\, Faculty of Law\, University of Bergen\n\nThe seminar will also be streamed HERE.
URL:https://beccle.no/event/6862/
LOCATION:Auditorium 3\, Det juridiske fakultet\, UiB\, Magnus Lagabøtes plass 1\, Bergen\, Norway
CATEGORIES:Conference,Events,Seminar
END:VEVENT
END:VCALENDAR