BEGIN:VCALENDAR
VERSION:2.0
PRODID:-// - ECPv6.15.20//NONSGML v1.0//EN
CALSCALE:GREGORIAN
METHOD:PUBLISH
X-ORIGINAL-URL:https://beccle.no
X-WR-CALDESC:Events for 
REFRESH-INTERVAL;VALUE=DURATION:PT1H
X-Robots-Tag:noindex
X-PUBLISHED-TTL:PT1H
BEGIN:VTIMEZONE
TZID:Europe/Oslo
BEGIN:DAYLIGHT
TZOFFSETFROM:+0100
TZOFFSETTO:+0200
TZNAME:CEST
DTSTART:20220327T010000
END:DAYLIGHT
BEGIN:STANDARD
TZOFFSETFROM:+0200
TZOFFSETTO:+0100
TZNAME:CET
DTSTART:20221030T010000
END:STANDARD
BEGIN:DAYLIGHT
TZOFFSETFROM:+0100
TZOFFSETTO:+0200
TZNAME:CEST
DTSTART:20230326T010000
END:DAYLIGHT
BEGIN:STANDARD
TZOFFSETFROM:+0200
TZOFFSETTO:+0100
TZNAME:CET
DTSTART:20231029T010000
END:STANDARD
BEGIN:DAYLIGHT
TZOFFSETFROM:+0100
TZOFFSETTO:+0200
TZNAME:CEST
DTSTART:20240331T010000
END:DAYLIGHT
BEGIN:STANDARD
TZOFFSETFROM:+0200
TZOFFSETTO:+0100
TZNAME:CET
DTSTART:20241027T010000
END:STANDARD
END:VTIMEZONE
BEGIN:VEVENT
DTSTART;VALUE=DATE:20230411
DTEND;VALUE=DATE:20230412
DTSTAMP:20260420T062259
CREATED:20230324T081504Z
LAST-MODIFIED:20230412T124835Z
UID:6982-1681171200-1681257599@beccle.no
SUMMARY:Finn/Nettbil saken: Lærdommer fra Høyesteretts dom
DESCRIPTION:I november 2020 forbød Konkurransetilsynet Schibsteds oppkjøp av Nettbil\, basert på at det ville medføre en betydelig begrensning i effektiv konkurranse i markedet. Konkurranseklagenemnda ga i mai 2021 Konkurransetilsynet medhold. Partene anket til Gulating lagmannsrett\, og de fikk i mars 2022 medhold. Staten anket saken inn for Høyesterett\, og Høyesterett forkastet i februar 2023 anken. Det var hovedsakelig basert på at Finn og Nettbils produkter ikke konkurrerte med hverandre. \nI dette seminaret ønsker vi å diskutere Finn/Nettbil saken\, og hvilke implikasjoner Høyesteretts dom får for fremtidige saker om foretakssammenslutninger. For å belyse det både fra et juridisk og økonomisk ståsted\, har vi følgende to innledere: \n\nProfessor Erling Hjelmeng\, Institutt for Privatrett\, Universitetet i Oslo\nProfessor Frode Steen\, Institutt for samfunnsøkonomi\, Norges Handelshøyskole\n\nDet vil bli satt av god tid til spørsmål og innlegg fra salen. \nSeminaret vil bli holdt: \n\nAuditorium 4\, Juridisk Fakultet\, Universitetet i Bergen\nTirsdag 11. april kl 14.15-15.45\n\nSeminaret vil også bli strømmet. Opptaket kan sees her. Lysbildene fra innleggene er vedlagt nedenfor. \nErling Hjelmeng \, Frode Steen
URL:https://beccle.no/event/finn-nettbil-saken-laerdommer-fra-hoyesteretts-dom/
LOCATION:Auditorium 4\, Det juridiske fakultet\, UiB\, Magnus Lagabøtes plass 1\, Bergen\, Hordaland\, 5010\, Norway
CATEGORIES:Conference,Events,Seminar
END:VEVENT
END:VCALENDAR